BEGIN:VCALENDAR
VERSION:2.0
PRODID:-//Angelfischer und Naturfreunde Günz- Lauben e.V. - ECPv6.12.0.1//NONSGML v1.0//EN
CALSCALE:GREGORIAN
METHOD:PUBLISH
X-ORIGINAL-URL:https://www.xn--angelverein-gnz-lauben-4lc.de
X-WR-CALDESC:Veranstaltungen für Angelfischer und Naturfreunde Günz- Lauben e.V.
REFRESH-INTERVAL;VALUE=DURATION:PT1H
X-Robots-Tag:noindex
X-PUBLISHED-TTL:PT1H
BEGIN:VTIMEZONE
TZID:Europe/Berlin
BEGIN:DAYLIGHT
TZOFFSETFROM:+0100
TZOFFSETTO:+0200
TZNAME:CEST
DTSTART:20240331T010000
END:DAYLIGHT
BEGIN:STANDARD
TZOFFSETFROM:+0200
TZOFFSETTO:+0100
TZNAME:CET
DTSTART:20241027T010000
END:STANDARD
BEGIN:DAYLIGHT
TZOFFSETFROM:+0100
TZOFFSETTO:+0200
TZNAME:CEST
DTSTART:20250330T010000
END:DAYLIGHT
BEGIN:STANDARD
TZOFFSETFROM:+0200
TZOFFSETTO:+0100
TZNAME:CET
DTSTART:20251026T010000
END:STANDARD
END:VTIMEZONE
BEGIN:VEVENT
DTSTART;TZID=Europe/Berlin:20250914T070000
DTEND;TZID=Europe/Berlin:20250914T130000
DTSTAMP:20260425T155727
CREATED:20250818T202510Z
LAST-MODIFIED:20250818T202510Z
UID:10000014-1757833200-1757854800@www.xn--angelverein-gnz-lauben-4lc.de
SUMMARY:Kameradschaftsfischen 2025
DESCRIPTION:Einladung zum Kameradschaftsfischen \nLiebe Angelfreunde\, \nam Sonntag\, den 14. September 2025\, findet das diesjährige Kameradschaftsfischen der Angelfischer- und Naturfreunde Günz-Lauben e.V. an beiden Weihern in Lauben statt. \nHierzu möchten wir Euch\, liebe Angelkameradinnen und -kameraden\, herzlich einladen.Auch in diesem Jahr gibt es wieder tolle Preise zu gewinnen! \nAblauf: \n\n\nBeginn: 07:00 Uhr \n\n\nEnde: 13:00 Uhr \n\n\nSiegerehrung: ca. 13:30 Uhr \n\n\nTeilnahmebedingungen: \n\n\nStartgebühr: 15\,00 € (Nachkauf möglich) \n\n\nFangbeschränkung: 1 Handangel\, max. 2 Fische \n\n\nFür das leibliche Wohl ist bestens gesorgt: Während des Fischens sowie nach der Siegerehrung laden wir zu einem gemütlichen Beisammensein mit Gegrilltem\, Weißwurst\, Wiener\, Getränken sowie Kaffee und Kuchen ein. \nAuf Euer Kommen freuen sich dieAngelfischer- und Naturfreunde Günz-Lauben e.V. \nPetri Heil!
URL:https://www.xn--angelverein-gnz-lauben-4lc.de/termine/kameradschaftsfischen-2025/
LOCATION:Lauben\, Lauben\, Bayern\, 87761\, Deutschland
CATEGORIES:Veranstaltung
ATTACH;FMTTYPE=image/webp:https://www.xn--angelverein-gnz-lauben-4lc.de/wp-content/uploads/2024/04/fishing-rod.webp
GEO:48.066149;10.286262
END:VEVENT
BEGIN:VEVENT
DTSTART;TZID=Europe/Berlin:20250525T070000
DTEND;TZID=Europe/Berlin:20250525T120000
DTSTAMP:20260425T155727
CREATED:20250517T185203Z
LAST-MODIFIED:20250519T184354Z
UID:10000011-1748156400-1748174400@www.xn--angelverein-gnz-lauben-4lc.de
SUMMARY:Königsfischen 25.05.2025
DESCRIPTION:Am Sonntag den 25.Mai 2025 findet unser alljährliches \nKönigsfischen am oberen Weiher in Lauben statt. \nHierzu sind alle Mitglieder herzlichts eingeladen. \nBeginn 7:00Uhr  Ende 12:00 Uhr \nAnschließend Ernennung des neuen Fischerkönigs danach gemütliches zusammen sein. \nZum Essen gibt es Weisswürste- Debreziener -und Wiener Würstchen \nZum trinken Bier und alkoholfreie Getränke \nEbenfallst gibt es Kaffee und Kuchen \nAb Mittag haben wir Steaks vorbereitet. \nDie Teilnahme ist für alle Mitglieder frei \nPassive Mitglieder brauchen keine Tageskarte \n  \nAuf zahlreiche Teilnahme freut sich \nDie Vorstandchaft
URL:https://www.xn--angelverein-gnz-lauben-4lc.de/termine/koenigsfischen-25-05-2025/
LOCATION:Lauben\, Lauben\, Bayern\, 87761\, Deutschland
CATEGORIES:Veranstaltung
ATTACH;FMTTYPE=image/png:https://www.xn--angelverein-gnz-lauben-4lc.de/wp-content/uploads/2025/05/e4141283-7111-4355-abdb-96c0cf7d234a.png
ORGANIZER;CN="Angel u. Naturfreunde G%C3%BCnz- Lauben e.V":MAILTO:info@angelverein-günz-lauben.de
GEO:48.066149;10.286262
END:VEVENT
BEGIN:VEVENT
DTSTART;TZID=Europe/Berlin:20240609T070000
DTEND;TZID=Europe/Berlin:20240609T130000
DTSTAMP:20260425T155727
CREATED:20240518T085612Z
LAST-MODIFIED:20240528T074423Z
UID:10000008-1717916400-1717938000@www.xn--angelverein-gnz-lauben-4lc.de
SUMMARY:Königsfischen 09.06 in Lauben
DESCRIPTION:Herzliche Einladung zum Königsfischen am 9. Juni 2024!\nLiebe Angelfreunde\, \n  \nwir laden euch herzlich zum diesjährigen Königsfischen ein! Am Sonntag\, den 9. Juni 2024\, beginn ist  7 Uhr . \nGemeinsam wollen wir einen erlebnisreichen Tag am Wasser verbringen und die schönsten Fänge des Tages ermitteln. \nDie Teilnahme ist für alle Mitglieder frei. \nPassive Mitglieder brauchen keine Tageskarte. \nDetails zum Event: \n\nDatum: Sonntag\, 9. Juni 2024\nBeginn: 7:00 Uhr\nEnde: 13:00 Uhr\nOrt: Oberer Weiher in Lauben\nVerpflegung Vormittags: Gibt es Weisswürste\, Debreziener und Wiener. Kaffee\, alkoholfreie Getränke und Bier\nVerpflegung Mittags: Gibt es vom Grill Steaks und danach Kaffee und Kuchen. Kaffee\, alkoholfreie Getränke und Bier\n\n  \nAb 13 Uhr Ernennung des neuen Fischerkönigs ! \nNach dem Angeln gibt es leckere Steaks vom Grill sowie Kaffee und Kuchen. \nWir freuen uns auf einen spannenden Tag mit euch\, voller Spaß\, Geselligkeit und natürlich großartigen Fängen! \nBitte beachtet die geltenden Angelbestimmungen. \nAuf zahlreiche Teilnahme freut sich \nAngelfischer und Naturfreunde Günz- Lauben e.V \nPetri Heil!
URL:https://www.xn--angelverein-gnz-lauben-4lc.de/termine/koenigsfischen-09-06-in-lauben/
LOCATION:Lauben\, Lauben\, Bayern\, 87761\, Deutschland
ATTACH;FMTTYPE=image/webp:https://www.xn--angelverein-gnz-lauben-4lc.de/wp-content/uploads/2024/05/4bcf0fd7-bd7f-4380-bfaf-8d7ff9888ee3.webp
GEO:48.066149;10.286262
END:VEVENT
BEGIN:VEVENT
DTSTART;TZID=Europe/Berlin:20240427T080000
DTEND;TZID=Europe/Berlin:20240427T120000
DTSTAMP:20260425T155727
CREATED:20240424T183943Z
LAST-MODIFIED:20240424T184023Z
UID:10000006-1714204800-1714219200@www.xn--angelverein-gnz-lauben-4lc.de
SUMMARY:Arbeitseinsatz in Lauben 27.04
DESCRIPTION:
URL:https://www.xn--angelverein-gnz-lauben-4lc.de/termine/arbeitseinsatz-in-lauben-2/
LOCATION:Lauben\, Lauben\, Bayern\, 87761\, Deutschland
CATEGORIES:Arbeitseinsatz
ATTACH;FMTTYPE=image/jpeg:https://www.xn--angelverein-gnz-lauben-4lc.de/wp-content/uploads/2024/04/holzhacken.jpg
ORGANIZER;CN="Angel u. Naturfreunde G%C3%BCnz- Lauben e.V":MAILTO:info@angelverein-günz-lauben.de
GEO:48.066149;10.286262
END:VEVENT
BEGIN:VEVENT
DTSTART;TZID=Europe/Berlin:20240413T080000
DTEND;TZID=Europe/Berlin:20240413T120000
DTSTAMP:20260425T155727
CREATED:20240411T181244Z
LAST-MODIFIED:20240411T182419Z
UID:10000005-1712995200-1713009600@www.xn--angelverein-gnz-lauben-4lc.de
SUMMARY:Arbeitseinsatz in Lauben
DESCRIPTION:Arbeitseinsatz in Lauben ! \nLetztes mal Holzhacken . \nBitte meldet euch in der Whatsapp Gruppe oder beim Franz \nwenn ihr Lust und Zeit habt.
URL:https://www.xn--angelverein-gnz-lauben-4lc.de/termine/arbeitseinsatz-in-lauben/
LOCATION:Lauben\, Lauben\, Bayern\, 87761\, Deutschland
ATTACH;FMTTYPE=image/jpeg:https://www.xn--angelverein-gnz-lauben-4lc.de/wp-content/uploads/2024/04/holzhacken.jpg
ORGANIZER;CN="Angel u. Naturfreunde G%C3%BCnz- Lauben e.V":MAILTO:info@angelverein-günz-lauben.de
GEO:48.066149;10.286262
END:VEVENT
BEGIN:VEVENT
DTSTART;TZID=Europe/Berlin:20240302T080000
DTEND;TZID=Europe/Berlin:20240302T120000
DTSTAMP:20260425T155727
CREATED:20240302T093710Z
LAST-MODIFIED:20240302T190721Z
UID:10000001-1709366400-1709380800@www.xn--angelverein-gnz-lauben-4lc.de
SUMMARY:Arbeitseinsatz
DESCRIPTION:  \nARBEIT ARBEIT ARBEI \n 
URL:https://www.xn--angelverein-gnz-lauben-4lc.de/termine/arbeitseinsatz/
LOCATION:Lauben\, Lauben\, Bayern\, 87761\, Deutschland
ATTACH;FMTTYPE=image/png:https://www.xn--angelverein-gnz-lauben-4lc.de/wp-content/uploads/2024/02/fangequip.png
ORGANIZER;CN="Angel u. Naturfreunde G%C3%BCnz- Lauben e.V":MAILTO:info@angelverein-günz-lauben.de
GEO:48.066149;10.286262
END:VEVENT
END:VCALENDAR